BEGIN:VCALENDAR
VERSION:2.0
PRODID:-//BPW Switzerland//NONSGML kigkonsult.se iCalcreator 2.16.12//
METHOD:PUBLISH
X-MS-OLK-FORCEINSPECTOROPEN:TRUE
BEGIN:VEVENT
UID:20260422T205707CEST-4082RumVod@BPW Switzerland
DTSTAMP:20260422T185707Z
DESCRIPTION:Die zarte Kraft des Tees\n\nDer Genuss steht im Leben von Tina 
 Wagner Lange\, Gründerin der ersten Teeschule der Schweiz\, in jeder Hins
 icht im Zentrum. Die Auseinandersetzung mit dem Fach Tee in all seinen Fac
 etten ist faszinierend. Unter dem Dach von Länggass‐Tee in Bern wird das t
 echnische Verständnis von der Teeherstellung\, sowie von Varietäten und Te
 rroirs seit jeher sensorisch überprüft.\nDie Sinne werden in täglichen D
 egustationen geschult und dienen als Arbeitsinstrument. Gleichzeitig ‐ und
  darin liegt die Leidenschaft ‐ ist Tee ein aussergewöhnlich vielfältiges 
 Genussmittel. Jeder Tee hat seinen eigenen Charakter und vermag die Genies
 serin zu berühren\, zart und kraftvoll. So ist jedes Referat von Tina Wag
 ner Lange auch Degustation und jede Degustation Genuss und Inspiration.\n
 \n 
DTSTART:20170817T180000
DTEND:20170817T210000
LOCATION:Hotel Du Parc\, Baden.
ORGANIZER:MAILTO:BPW Switzerland <admin@bpw-baden.ch>
SUMMARY:BPW Clubabend – Tina Wagner Lange\, Teespezialistin\, Länggass-Tee 
 Bern
END:VEVENT
END:VCALENDAR
