BEGIN:VCALENDAR
VERSION:2.0
PRODID:-//BPW Switzerland//NONSGML kigkonsult.se iCalcreator 2.16.12//
METHOD:PUBLISH
X-MS-OLK-FORCEINSPECTOROPEN:TRUE
BEGIN:VEVENT
UID:20260422T205527CEST-5946ZhOWVv@BPW Switzerland
DTSTAMP:20260422T185527Z
DESCRIPTION:Partneranlass\n\nWir treffen uns zu einem unkomplizierten Abend
 essen (Ort wird noch bekanntgegeben)\, um uns auszutauschen und den Sommer
  zu geniessen. Wer Lust hat\, kann einen Teil des Weges unter die Füsse n
 ehmen. Beim Laufen lässt es sich gut plaudern und einander näher kennen le
 rnen.
DTSTART:20170720T180000
DTEND:20170720T210000
ORGANIZER:MAILTO:BPW Switzerland <admin@bpw-baden.ch>
SUMMARY:BPW Clubabend – Sommerplausch
END:VEVENT
END:VCALENDAR
