BEGIN:VCALENDAR
VERSION:2.0
PRODID:-//BPW Switzerland//NONSGML kigkonsult.se iCalcreator 2.16.12//
METHOD:PUBLISH
X-MS-OLK-FORCEINSPECTOROPEN:TRUE
BEGIN:VEVENT
UID:20260422T205619CEST-8028f3Bb17@BPW Switzerland
DTSTAMP:20260422T185619Z
DESCRIPTION:Ein Abend im Zeichen der Schokolade\n\nSchokoladengeniesserinne
 n aufgepasst! Ein ganz besonderer Clubabend erwartet uns im neuen Ladenlok
 al des mehrfach preisgekrönten Chocolatiers Fabian Rimann in Wettingen. Er
  sagt: «Schokolade bietet unendlich viele Möglichkeiten. Sie ist eine eige
 ne Welt\, komplex\, störrisch\, zart und sensibel zugleich. Unverfälscht i
 m Geschmack\, unverkennbar im Charakter. Die Grenzen dieses Universums hab
 e ich noch nicht gefunden.»\nDiese Grenzen loten wir bei der Herstellung v
 erschiedener Desserts gleich selber aus. Fabian Rimann gibt uns einen Einb
 lick in die faszinierende Welt der Schokolade\, und im Anschluss geniessen
  wir das Beisammensein und unsere selbstgemachten Köstlichkeiten.
DTSTART:20170622T190000
DTEND:20170622T210000
LOCATION:Wettingen
ORGANIZER:MAILTO:BPW Switzerland <admin@bpw-baden.ch>
SUMMARY:BPW Clubabend – Zu Gast bei Fabian Rimann\, Chocolatier
END:VEVENT
END:VCALENDAR
