BEGIN:VCALENDAR
VERSION:2.0
PRODID:-//BPW Switzerland//NONSGML kigkonsult.se iCalcreator 2.16.12//
METHOD:PUBLISH
X-MS-OLK-FORCEINSPECTOROPEN:TRUE
BEGIN:VEVENT
UID:20260422T205127CEST-7524jMvjRX@BPW Switzerland
DTSTAMP:20260422T185127Z
DESCRIPTION:Neue Clubmitglieder stellen sich vor.
DTSTART:20170518T181500
DTEND:20170518T213000
LOCATION:Hotel Du Parc\, Baden.
ORGANIZER:MAILTO:BPW Switzerland <admin@bpw-baden.ch>
SUMMARY:BPW Clubabend – Einführungsreferate
END:VEVENT
END:VCALENDAR
