BEGIN:VCALENDAR
VERSION:2.0
PRODID:-//BPW Switzerland//NONSGML kigkonsult.se iCalcreator 2.16.12//
METHOD:PUBLISH
X-MS-OLK-FORCEINSPECTOROPEN:TRUE
BEGIN:VEVENT
UID:20260422T205412CEST-9033oFJb8B@BPW Switzerland
DTSTAMP:20260422T185412Z
DESCRIPTION:Vom Industrieareal zum trendigen Wohn- und Ausgehviertel\n\nWir
  erkunden\, auf einem durch die Architektin Kristin Müller fachkundig gef
 ührten Stadtspaziergang\, das Entwicklungsgebiet Zürich West. Das Gebiet
  hat sich seit Mitte der neunziger Jahre erfolgreich vom ehemaligen Indust
 rieareal vor den Toren der Stadt zum trendigen Ausgehviertel sowie Wohn‐ u
 nd Arbeitsort entwickelt. Architekturwettbewerbe für die einzelnen Areale
  garantieren hochstehende architektonische Projekte\, denen wir auf diesem
  Rundgang unsere spezielle Aufmerksamkeit widmen.\n 
DTSTART:20170504T143000
DTEND:20170504T163000
LOCATION:Zürich
ORGANIZER:MAILTO:BPW Switzerland <admin@bpw-baden.ch>
SUMMARY:BPW+ Fachexkursion Zürich mit Architour
END:VEVENT
END:VCALENDAR
