BEGIN:VCALENDAR
VERSION:2.0
PRODID:-//BPW Switzerland//NONSGML kigkonsult.se iCalcreator 2.16.12//
METHOD:PUBLISH
X-MS-OLK-FORCEINSPECTOROPEN:TRUE
BEGIN:VEVENT
UID:20260422T205331CEST-6607DUAUn6@BPW Switzerland
DTSTAMP:20260422T185331Z
DESCRIPTION:Das grosse Interesse des Ateliers ushitamborriello liegt in der
  Gestaltung eigenständiger Räume: identitätsstiftende Orte mit verdichtete
 n Atmosphären\, die den Bedürfnissen ihrer Nutzer Rechnung tragen. Das Te
 am aus Szenographen\, Innenarchitekten und Architekten machte sich in den 
 letzten Jahren vor allem in Hotellerie und Gastronomie einen Namen und sch
 uf innovative Bäder und Wellnessanlagen.\nGestaltungsansätze aus der beste
 henden Substanz des Ortes zu entwickeln\, sich als Spurensucherin auf Entd
 eckungsreise zu begeben und Gefundenes und Erfundenes respektvoll zu verei
 nen\, zieht sich als Motiv durch das gesamte Schaffen. Dabei gilt es\, fü
 r jedes Projekt auf’s Neue eine Haltung im Umgang mit der Fülle der versc
 hiedenen Optionen zu entwickeln.\n\nAus der Referenzliste: Novum Spa Limma
 thof Baden I Hamam Trafo Baden I Thermalbad und Boutique Hotel Hürlimann 
 Areal\, Zürich I Seerose Balance Ressort\, Meisterschwanden I Sihl Post b
 y Hiltl\, Zürich.
DTSTART:20170427T183000
DTEND:20170427T220000
LOCATION:Baden
ORGANIZER:MAILTO:BPW Switzerland <admin@bpw-baden.ch>
SUMMARY:BPW Clubabend – Ushi Tamborriello - Bäder und Wellnessanlagen Ein A
 telierbesuch
END:VEVENT
END:VCALENDAR
