BEGIN:VCALENDAR
VERSION:2.0
PRODID:-//BPW Switzerland//NONSGML kigkonsult.se iCalcreator 2.16.12//
METHOD:PUBLISH
X-MS-OLK-FORCEINSPECTOROPEN:TRUE
BEGIN:VEVENT
UID:20260422T205724CEST-16791iOF2P@BPW Switzerland
DTSTAMP:20260422T185724Z
DESCRIPTION:Der Anlass für neu gewählte Präsidentinnen\, bei dem sie die wi
 chtigsten Infos zur Ausübung ihres Amtes erhalten.\n\nLageplan
DTSTART:20170401T100000
DTEND:20170401T170000
LOCATION:Hotel Restaurant Astoria\, Olten
ORGANIZER:MAILTO:BPW Switzerland <admin@bpw-baden.ch>
SUMMARY:Präsidentinnenschulung
END:VEVENT
END:VCALENDAR
