BEGIN:VCALENDAR
VERSION:2.0
PRODID:-//BPW Switzerland//NONSGML kigkonsult.se iCalcreator 2.16.12//
METHOD:PUBLISH
X-MS-OLK-FORCEINSPECTOROPEN:TRUE
BEGIN:VEVENT
UID:20260422T205542CEST-78996vxzNn@BPW Switzerland
DTSTAMP:20260422T185542Z
DESCRIPTION:
DTSTART:20170224T000000
DTEND:20170224T235900
ORGANIZER:MAILTO:BPW Switzerland <admin@bpw-baden.ch>
SUMMARY:Equal Pay Day 2017
END:VEVENT
END:VCALENDAR
