BEGIN:VCALENDAR
VERSION:2.0
PRODID:-//BPW Switzerland//NONSGML kigkonsult.se iCalcreator 2.16.12//
METHOD:PUBLISH
X-MS-OLK-FORCEINSPECTOROPEN:TRUE
BEGIN:VEVENT
UID:20260422T192308CEST-1400raSEZd@BPW Switzerland
DTSTAMP:20260422T172308Z
DESCRIPTION:Develop and strengthen your leadership skills in this interacti
 ve two-day training.\n\nSee the video from the last training in Basel.\n\n
 \nRegistration: www.bpw-lakegeneva.ch\n\n \n\nLearn more information in th
 e flyer.\n
DTSTART:20161112T000000
DTEND:20161113T235900
LOCATION:Lausanne\, Hotel Aulac
ORGANIZER:MAILTO:BPW Switzerland <admin@bpw-baden.ch>
SUMMARY:BPW Leadership Training for Women
END:VEVENT
END:VCALENDAR
